BEGIN:VCALENDAR
VERSION:2.0
PRODID:-//People Matter Project - ECPv6.6.2//NONSGML v1.0//EN
CALSCALE:GREGORIAN
METHOD:PUBLISH
X-WR-CALNAME:People Matter Project
X-ORIGINAL-URL:https://peoplematterproject.com
X-WR-CALDESC:Events for People Matter Project
REFRESH-INTERVAL;VALUE=DURATION:PT1H
X-Robots-Tag:noindex
X-PUBLISHED-TTL:PT1H
BEGIN:VTIMEZONE
TZID:America/Toronto
BEGIN:DAYLIGHT
TZOFFSETFROM:-0500
TZOFFSETTO:-0400
TZNAME:EDT
DTSTART:20230312T070000
END:DAYLIGHT
BEGIN:STANDARD
TZOFFSETFROM:-0400
TZOFFSETTO:-0500
TZNAME:EST
DTSTART:20231105T060000
END:STANDARD
END:VTIMEZONE
BEGIN:VEVENT
DTSTART;VALUE=DATE:20230625
DTEND;VALUE=DATE:20230626
DTSTAMP:20260424T113512
CREATED:20230307T214532Z
LAST-MODIFIED:20230307T214532Z
UID:3226-1687651200-1687737599@peoplematterproject.com
SUMMARY:Community Family Fun Day 2023
DESCRIPTION:Join us for a day full of fun!
URL:https://peoplematterproject.com/event/community-family-fun-day-2023/
LOCATION:Nepean Seventh-Day Adventist Church\, 4010 Strandherd Dr.\, Ottawa\, Ontario\, K2J4R8\, Canada
END:VEVENT
BEGIN:VEVENT
DTSTART;TZID=America/Toronto:20230701T090000
DTEND;TZID=America/Toronto:20230701T160000
DTSTAMP:20260424T113512
CREATED:20230307T214829Z
LAST-MODIFIED:20230627T233526Z
UID:3228-1688202000-1688227200@peoplematterproject.com
SUMMARY:Canada Day 2023
DESCRIPTION:Let’s celebrate Canada Day together! \nWe’ll be at the Canada Day Barrhaven event in the Clarke Fields Park from 9AM to 4PM. Hope to see you there!
URL:https://peoplematterproject.com/event/canada-day-2023/
LOCATION:Clarke Fields Park\, 93 Houlahan St\, Nepean\, Ontario\, K2J 3Y7\, Canada
END:VEVENT
BEGIN:VEVENT
DTSTART;VALUE=DATE:20230710
DTEND;VALUE=DATE:20230715
DTSTAMP:20260424T113512
CREATED:20230307T215102Z
LAST-MODIFIED:20230307T215102Z
UID:3230-1688947200-1689379199@peoplematterproject.com
SUMMARY:Vacation Bible School 2023
DESCRIPTION:A week full of fun with unique ways to learn about the Bible and make new friends.
URL:https://peoplematterproject.com/event/vacation-bible-school-2023/
LOCATION:Nepean Seventh-Day Adventist Church\, 4010 Strandherd Dr.\, Ottawa\, Ontario\, K2J4R8\, Canada
END:VEVENT
BEGIN:VEVENT
DTSTART;TZID=America/Toronto:20230924T100000
DTEND;TZID=America/Toronto:20230924T150000
DTSTAMP:20260424T113512
CREATED:20230820T021044Z
LAST-MODIFIED:20230823T005138Z
UID:3285-1695549600-1695567600@peoplematterproject.com
SUMMARY:Health Fair 2023
DESCRIPTION:Come join us at our 1st annual free Health Fair at the Walter Baker Sports Centre. Presented by the People Matter Project. We will have presentations by our local MPP Lisa Macleod\, the Ottawa Police\, Home and community Care Services\, Mental Health and the Ottawa Community Paramedics. \nVarious booths to explore: \n\nDentistry\nNutrition\nPsychologist\nHealth screening\nReflexology\nDiabetic education\nFree massage therapy\n… and more!\n\nThere will also be draws\, prizes\, and other freebies. \nSee you there!
URL:https://peoplematterproject.com/event/health-fair-2023/
LOCATION:Walter Baker Sports Center\, 100 Malvern Dr\, Nepean\, Ontario\, K2J 2G5\, Canada
END:VEVENT
END:VCALENDAR