BEGIN:VCALENDAR
VERSION:2.0
PRODID:-//People Matter Project - ECPv6.6.2//NONSGML v1.0//EN
CALSCALE:GREGORIAN
METHOD:PUBLISH
X-WR-CALNAME:People Matter Project
X-ORIGINAL-URL:https://peoplematterproject.com
X-WR-CALDESC:Events for People Matter Project
REFRESH-INTERVAL;VALUE=DURATION:PT1H
X-Robots-Tag:noindex
X-PUBLISHED-TTL:PT1H
BEGIN:VTIMEZONE
TZID:America/New_York
BEGIN:DAYLIGHT
TZOFFSETFROM:-0500
TZOFFSETTO:-0400
TZNAME:EDT
DTSTART:20230312T070000
END:DAYLIGHT
BEGIN:STANDARD
TZOFFSETFROM:-0400
TZOFFSETTO:-0500
TZNAME:EST
DTSTART:20231105T060000
END:STANDARD
END:VTIMEZONE
BEGIN:VEVENT
DTSTART;TZID=America/New_York:20230304T180000
DTEND;TZID=America/New_York:20230304T180000
DTSTAMP:20260424T221859
CREATED:20230218T040021Z
LAST-MODIFIED:20230218T040120Z
UID:3094-1677952800-1677952800@peoplematterproject.com
SUMMARY:Benefit Concert for Turkey and Syria
DESCRIPTION:
URL:https://peoplematterproject.com/event/benefit-concert-for-turkey-and-syria/
LOCATION:Nepean Seventh-Day Adventist Church\, 4010 Strandherd Dr.\, Ottawa\, Ontario\, K2J4R8\, Canada
END:VEVENT
END:VCALENDAR